BEGIN:VCALENDAR
PRODID:-//Microsoft Corporation//Outlook MIMEDIR//EN
VERSION:2.0
METHOD:PUBLISH
BEGIN:VEVENT
DTSTART:20260408T080000
DTEND:20260408T090000
DESCRIPTION:ALL STAFF
LOCATION:
SUMMARY:City Council 
CATEGORIES:MEETING
END:VEVENT
END:VCALENDAR
